BEGIN:VCALENDAR
VERSION:2.0
PRODID:-//ChamberMaster//Event Calendar 2.0//EN
METHOD:PUBLISH
X-PUBLISHED-TTL:P3D
REFRESH-INTERVAL:P3D
CALSCALE:GREGORIAN
BEGIN:VEVENT
DTSTART:20130420T143000Z
DTEND:20130420T153000Z
X-MICROSOFT-CDO-ALLDAYEVENT:FALSE
SUMMARY:Gardening Organizational Meeting at the LeDuc Historic Estate
DESCRIPTION:Attention Gardeners\nOn Saturday\, April 20\, 9:30 a.m. people who are interested in doing gardening at the LeDuc Historic Estate are invited to attend an organizational meeting.  This includes both gardening around the LeDuc house and the Community Garden.  This is open to people of all ages\, whether you are a seasoned gardener or a beginner.  The schedule for gardening will be announced.  This is an opportunity to get your hands dirty\, connect with the earth\, meet new friends\, and reap the benefits of your labors.  Community Gardeners will take fresh produce home with them and will also be able to share the fruits of their labors with Hastings Family Service.  Details of a grant from United Way of Hastings will be revealed at this time.
X-ALT-DESC;FMTTYPE=text/html:<div style="text-align: center">\n	Attention Gardeners</div>\nOn Saturday\, April 20\, 9:30 a.m. people who are interested in doing gardening at the LeDuc Historic Estate are invited to attend an organizational meeting. &nbsp\;This includes both gardening around the LeDuc house and the Community Garden. &nbsp\;This is open to people of all ages\, whether you are a seasoned gardener or a beginner. &nbsp\;The schedule for gardening will be announced. &nbsp\;This is an opportunity to get your hands dirty\, connect with the earth\, meet new friends\, and reap the benefits of your labors. &nbsp\;Community Gardeners will take fresh produce home with them and will also be able to share the fruits of their labors with Hastings Family Service. &nbsp\;Details of a grant from United Way of Hastings will be revealed at this time. &nbsp\;
LOCATION:LeDuc Historic Estate - 1629 Vermillion Street\, Hastings\, MN 55033
UID:e.606.113807
SEQUENCE:3
DTSTAMP:20260419T131930Z
URL:https://www.hastingsmn.org/events/details/gardening-organizational-meeting-at-the-leduc-historic-estate-04-20-2013-113807
END:VEVENT

END:VCALENDAR
