BEGIN:VCALENDAR
VERSION:2.0
PRODID:-//ChamberMaster//Event Calendar 2.0//EN
METHOD:PUBLISH
X-PUBLISHED-TTL:P3D
REFRESH-INTERVAL:P3D
CALSCALE:GREGORIAN
BEGIN:VEVENT
DTSTART:20100522T130000Z
DTEND:20100522T163000Z
X-MICROSOFT-CDO-ALLDAYEVENT:FALSE
SUMMARY:Garden Club Sale
DESCRIPTION:The Annual Hastings Area Garden Club Sale.Locally grown perennials and vegetable seedlings will be for sale.
X-ALT-DESC;FMTTYPE=text/html:<div>The Annual Hastings Area Garden Club Sale.</div><div>Locally grown perennials and vegetable seedlings will be&nbsp\;for sale.</div>
LOCATION:Vermillion Falls ParkHwy. 61 to 21st Street EastHastings\, MN
UID:e.606.111575
SEQUENCE:3
DTSTAMP:20260425T170651Z
URL:https://www.hastingsmn.org/events/details/garden-club-sale-05-22-2010-111575
END:VEVENT

END:VCALENDAR
