BEGIN:VCALENDAR
VERSION:2.0
PRODID:-//ChamberMaster//Event Calendar 2.0//EN
METHOD:PUBLISH
X-PUBLISHED-TTL:P3D
REFRESH-INTERVAL:P3D
CALSCALE:GREGORIAN
BEGIN:VEVENT
DTSTART;VALUE=DATE:20110712
DTEND;VALUE=DATE:20110713
TRANSP:TRANSPARENT
X-MICROSOFT-CDO-ALLDAYEVENT:TRUE
SUMMARY:Friends of LeDuc of Historic Hstings
DESCRIPTION:Friends of LeDuc of  Historic Hastings will meet at 7 p.m. on July 12 at the Estate.  Dr. Jeremy Nienow of Inver Hills Comunity College will speak on archaeology - the background and how it specifically applies to the LeDuc Historic Estate.  Free & open to the public..
X-ALT-DESC;FMTTYPE=text/html:Friends of LeDuc of&nbsp\; Historic Hastings will meet at 7 p.m. on July 12 at the Estate.&nbsp\; Dr. Jeremy Nienow of Inver Hills Comunity College will speak on archaeology - the background and how it specifically applies to the LeDuc Historic Estate.&nbsp\; Free &amp\; open to the public..
LOCATION:LeDuc Historic Estate 1629 Vermillion Street\, Hastings\, MN 55033
UID:e.606.113277
SEQUENCE:3
DTSTAMP:20260421T004430Z
URL:https://www.hastingsmn.org/events/details/friends-of-leduc-of-historic-hstings-07-12-2011-113277
END:VEVENT

END:VCALENDAR
