BEGIN:VCALENDAR
VERSION:2.0
PRODID:-//ChamberMaster//Event Calendar 2.0//EN
METHOD:PUBLISH
X-PUBLISHED-TTL:P3D
REFRESH-INTERVAL:P3D
CALSCALE:GREGORIAN
BEGIN:VEVENT
DTSTART:20121212T010000Z
DTEND:20121212T030000Z
X-MICROSOFT-CDO-ALLDAYEVENT:FALSE
SUMMARY:Friends of LeDuc of Historic Hastings Meeting
DESCRIPTION:Friends of LeDuc of Historic Hastings meet on Tuesday\, December 11th at 7 pm at the LeDuc Historic Estate\, 1629 Vermillion Street\, Hastings.  Following a short business meeting the remainder of the evening will be devoted to a holiday social where volunteers will be honored.  Free & open to the public.
X-ALT-DESC;FMTTYPE=text/html:Friends of LeDuc of Historic Hastings meet on Tuesday\, December 11th at&nbsp\;7 pm at the LeDuc Historic Estate\, 1629 Vermillion Street\, Hastings. &nbsp\;Following a short business meeting the remainder of the evening will be devoted to a holiday social where volunteers will be honored. &nbsp\;Free &amp\; open to the public. &nbsp\;
LOCATION:LeDuc Historic Estate 1629 Vermillion Street Hastings. MN
UID:e.606.113749
SEQUENCE:3
DTSTAMP:20260419T182057Z
URL:https://www.hastingsmn.org/events/details/friends-of-leduc-of-historic-hastings-meeting-12-11-2012-113749
END:VEVENT

END:VCALENDAR
