BEGIN:VCALENDAR
VERSION:2.0
PRODID:-//ChamberMaster//Event Calendar 2.0//EN
METHOD:PUBLISH
X-PUBLISHED-TTL:P3D
REFRESH-INTERVAL:P3D
CALSCALE:GREGORIAN
BEGIN:VEVENT
DTSTART:20121114T010000Z
DTEND:20121114T030000Z
X-MICROSOFT-CDO-ALLDAYEVENT:FALSE
SUMMARY:Friends of LeDuc of Historic Hastings Meeting
DESCRIPTION:Friends of LeDuc of Historic Hastings will meet on Tuesday\, November 13\, 7 p.m. at the Estate.  There will be a short business meeting followed by a presentation by Richard Darsow\, historian\, researcher\, & writer\, on "Old Time Medicine."\n\nFree & open to the public.
X-ALT-DESC;FMTTYPE=text/html:Friends of LeDuc of Historic Hastings will meet on Tuesday\, November 13\, 7 p.m. at the Estate. &nbsp\;There will be a short business meeting followed by a presentation by Richard Darsow\, historian\, researcher\, &amp\; writer\, on &quot\;Old Time Medicine.&quot\;<br />\nFree &amp\; open to the public.
LOCATION:The LeDuc Historic Estate - 1629 Vermillion St.\, Hastings
UID:e.606.113737
SEQUENCE:3
DTSTAMP:20260419T202402Z
URL:https://www.hastingsmn.org/events/details/friends-of-leduc-of-historic-hastings-meeting-11-13-2012-113737
END:VEVENT

END:VCALENDAR
