BEGIN:VCALENDAR
VERSION:2.0
PRODID:-//ChamberMaster//Event Calendar 2.0//EN
METHOD:PUBLISH
X-PUBLISHED-TTL:P3D
REFRESH-INTERVAL:P3D
CALSCALE:GREGORIAN
BEGIN:VEVENT
DTSTART:20111109T010000Z
DTEND:20111109T030000Z
X-MICROSOFT-CDO-ALLDAYEVENT:FALSE
SUMMARY:Friends of LeDuc of Historic Hastings Meeting
DESCRIPTION:Friends of LeDuc of Historic Hastings will meet on Tuesday\, November 8\, 7 p.m. at the Estate.  Following a short business meeting the volunteers will be honored with "We Salute our Volunteers."  Free and open to members and visitors.
X-ALT-DESC;FMTTYPE=text/html:Friends of LeDuc of Historic Hastings will meet on Tuesday\, November 8\, 7 p.m. at the Estate. &nbsp\;Following a short business meeting the volunteers will be honored with &quot\;We Salute our Volunteers.&quot\; &nbsp\;Free and open to members and visitors.
LOCATION:LeDuc Historic Estate 1629 Vermillion St.\, Hastings\, MN 55033
UID:e.606.113336
SEQUENCE:3
DTSTAMP:20260420T173622Z
URL:https://www.hastingsmn.org/events/details/friends-of-leduc-of-historic-hastings-meeting-11-08-2011-113336
END:VEVENT

END:VCALENDAR
