BEGIN:VCALENDAR
VERSION:2.0
PRODID:-//ChamberMaster//Event Calendar 2.0//EN
METHOD:PUBLISH
X-PUBLISHED-TTL:P3D
REFRESH-INTERVAL:P3D
CALSCALE:GREGORIAN
BEGIN:VEVENT
DTSTART:20111012T000000Z
DTEND:20111012T020000Z
X-MICROSOFT-CDO-ALLDAYEVENT:FALSE
SUMMARY:Friends of LeDuc of Historic Hastings Meeting
DESCRIPTION:Friends of LeDuc of Historic Hastings will meet on Tuesday\, October 11\, 7 p.m. at the Estate.  There will be a short business meeting followed by a presentation on Sustainability by Joan Mathison\, "RESILIANCE:  History Lessons for Our Future."  Joan works in the field of Sustainability and has recently been certified by the International Society of\n\nSsustainability Professionls.\n\nMeeting is free and open to the public.
X-ALT-DESC;FMTTYPE=text/html:Friends of LeDuc of Historic Hastings will meet on Tuesday\, October 11\, 7 p.m. at the Estate. &nbsp\;There will be a short business meeting followed by a presentation on Sustainability by Joan Mathison\, &quot\;RESILIANCE: &nbsp\;History Lessons for Our Future.&quot\; &nbsp\;Joan works in the field of Sustainability and has recently been certified by the International Society of<br />\nSsustainability Professionls.<br />\nMeeting is free and open to the public.
LOCATION:LeDuc Historic Estate 1629 Vermillion Street\, Hastings\, MN 55033
UID:e.606.113315
SEQUENCE:3
DTSTAMP:20260420T205503Z
URL:https://www.hastingsmn.org/events/details/friends-of-leduc-of-historic-hastings-meeting-10-11-2011-113315
END:VEVENT

END:VCALENDAR
