BEGIN:VCALENDAR
VERSION:2.0
PRODID:-//ChamberMaster//Event Calendar 2.0//EN
METHOD:PUBLISH
X-PUBLISHED-TTL:P3D
REFRESH-INTERVAL:P3D
CALSCALE:GREGORIAN
BEGIN:VEVENT
DTSTART:20121010T000000Z
DTEND:20121010T020000Z
X-MICROSOFT-CDO-ALLDAYEVENT:FALSE
SUMMARY:Friends of LeDuc of Historic Hastings Meeting
DESCRIPTION:Friends of LeDuc of Historic Hastings meets on Tuesday\, October 9\, 7 p.m. at the Estate.  Following a brief business meeting\,  award-winning author S.C. Larsen of Rochester will discuss his ghost story books about southeastern MN.  The meeting free & open to the public.
X-ALT-DESC;FMTTYPE=text/html:Friends of LeDuc of Historic Hastings meets on Tuesday\, October 9\, 7 p.m. at the Estate. &nbsp\;Following a brief business meeting\, &nbsp\;award-winning author S.C. Larsen of Rochester will discuss his ghost story books about southeastern MN. &nbsp\;The meeting free &amp\; open to the public. &nbsp\;
LOCATION:LeDuc Historic Estate - 1629 Vermillion Street\, Hastings\, MN
UID:e.606.113710
SEQUENCE:3
DTSTAMP:20260419T215920Z
URL:https://www.hastingsmn.org/events/details/friends-of-leduc-of-historic-hastings-meeting-10-09-2012-113710
END:VEVENT

END:VCALENDAR
