BEGIN:VCALENDAR
VERSION:2.0
PRODID:-//ChamberMaster//Event Calendar 2.0//EN
METHOD:PUBLISH
X-PUBLISHED-TTL:P3D
REFRESH-INTERVAL:P3D
CALSCALE:GREGORIAN
BEGIN:VEVENT
DTSTART:20110907T000000Z
DTEND:20110907T020000Z
X-MICROSOFT-CDO-ALLDAYEVENT:FALSE
SUMMARY:Friends of LeDuc of Historic Hastings Meeting
DESCRIPTION:Friends of LeDuc of Historic Hastings will meet on Tuesday\, September 6\, 7 p.m. at the Estate.  Following the short business meeting Nancy Splitstoser will do a presentation on the History of Dolls.  Nancy is a long-time collector and doll appraiser at major doll shows throughout the country.\n\nMembers and visitors invited to attend.
X-ALT-DESC;FMTTYPE=text/html:Friends of LeDuc of Historic Hastings will meet on Tuesday\, September 6\, 7 p.m. at the Estate. &nbsp\;Following the short business meeting Nancy Splitstoser will do a presentation on the History of Dolls. &nbsp\;Nancy is a long-time collector and doll appraiser at major doll shows throughout the country.<br />\nMembers and visitors invited to attend.
LOCATION:LeDuc Historic Estate 1629 Vermillion Street\, Hastings\, MN 55033
UID:e.606.113297
SEQUENCE:3
DTSTAMP:20260420T205513Z
URL:https://www.hastingsmn.org/events/details/friends-of-leduc-of-historic-hastings-meeting-09-06-2011-113297
END:VEVENT

END:VCALENDAR
