BEGIN:VCALENDAR
VERSION:2.0
PRODID:-//ChamberMaster//Event Calendar 2.0//EN
METHOD:PUBLISH
X-PUBLISHED-TTL:P3D
REFRESH-INTERVAL:P3D
CALSCALE:GREGORIAN
BEGIN:VEVENT
DTSTART:20120905T000000Z
DTEND:20120905T020000Z
X-MICROSOFT-CDO-ALLDAYEVENT:FALSE
SUMMARY:Friends of LeDuc of Historic Hastings Meeting
DESCRIPTION:Friends of LeDuc of Historic Hastings will meet on Tuesday\, September 4\, 7 p.m. at the LeDuc Historic Estate\, 1629 Vermillion Street\, Hastings.  Purpose of the meeting is to discuss upcoming Civil War Weekend and LeDuc-Simmon Country Market & Take Me to the River.  FREE - Members & visitors invited.
X-ALT-DESC;FMTTYPE=text/html:Friends of LeDuc of Historic Hastings will meet on Tuesday\, September 4\, 7 p.m. at the LeDuc Historic Estate\, 1629 Vermillion Street\, Hastings. &nbsp\;Purpose of the meeting is to discuss upcoming Civil War Weekend and LeDuc-Simmon Country Market &amp\; Take Me to the River. &nbsp\;FREE - Members &amp\; visitors invited.
LOCATION:LeDuc Historic Estate - 1629 Vermillion St.\, Hastings
UID:e.606.113700
SEQUENCE:3
DTSTAMP:20260419T235630Z
URL:https://www.hastingsmn.org/events/details/friends-of-leduc-of-historic-hastings-meeting-09-04-2012-113700
END:VEVENT

END:VCALENDAR
