BEGIN:VCALENDAR
VERSION:2.0
PRODID:-//ChamberMaster//Event Calendar 2.0//EN
METHOD:PUBLISH
X-PUBLISHED-TTL:P3D
REFRESH-INTERVAL:P3D
CALSCALE:GREGORIAN
BEGIN:VEVENT
DTSTART:20100811T000000Z
DTEND:20100811T013000Z
X-MICROSOFT-CDO-ALLDAYEVENT:FALSE
SUMMARY:Friends of LeDuc of Historic Hastings Meeting
DESCRIPTION:Friends of LeDuc of Historic Hastings and visitors are invited to hear a portrayal of Abraham Lincoln as interpreted by Ken Roen\, retired elementary school teacher and Lincoln resercher.
X-ALT-DESC;FMTTYPE=text/html:Friends of LeDuc of Historic Hastings and visitors are invited to hear a portrayal of Abraham Lincoln as interpreted by Ken Roen\, retired elementary school teacher and Lincoln resercher. 
LOCATION:LeDuc Historic Estate\, 1629 Vermillion Street\, Hastings\, MN 55033
UID:e.606.111515
SEQUENCE:3
DTSTAMP:20260425T140352Z
URL:https://www.hastingsmn.org/events/details/friends-of-leduc-of-historic-hastings-meeting-08-10-2010-111515
END:VEVENT

END:VCALENDAR
