BEGIN:VCALENDAR
VERSION:2.0
PRODID:-//ChamberMaster//Event Calendar 2.0//EN
METHOD:PUBLISH
X-PUBLISHED-TTL:P3D
REFRESH-INTERVAL:P3D
CALSCALE:GREGORIAN
BEGIN:VEVENT
DTSTART:20120613T000000Z
DTEND:20120613T020000Z
X-MICROSOFT-CDO-ALLDAYEVENT:FALSE
SUMMARY:Friends of LeDuc of Historic Hastings Meeting
DESCRIPTION:Members & visitors are invited to the June 12\, 7 p.m. meeting of Friends of LeDuc of Historic Hastings.  Following the short business meeting there will be a presentation by Kevin Geraghty & Sarah French from the Living History Society who will be wearing costumes of the Edwardian era.  They will tell about manners\, clothing\, social graces\, & food of this time in history.  This is especially appropriate since this is the 100th anniversary of the Titanic.
X-ALT-DESC;FMTTYPE=text/html:<span style="font-size: 11px"><span style="font-family: verdana">Members &amp\; visitors are invited to the June 12\, 7 p.m. meeting of Friends of LeDuc of Historic Hastings. &nbsp\;Following the short business meeting there will be a&nbsp\;presentation by Kevin Geraghty &amp\; Sarah French from the Living History Society who will be wearing costumes of the Edwardian era. &nbsp\;They will tell about manners\, clothing\, social graces\, &amp\; food of this time in history. &nbsp\;This is especially appropriate since this is the 100th anniversary of the Titanic.</span></span>
LOCATION:LeDuc Historic Estate - 1629 Vermillion Street\, Hastings\, MN 55033
UID:e.606.113677
SEQUENCE:3
DTSTAMP:20260420T070823Z
URL:https://www.hastingsmn.org/events/details/friends-of-leduc-of-historic-hastings-meeting-06-12-2012-113677
END:VEVENT

END:VCALENDAR
