BEGIN:VCALENDAR
VERSION:2.0
PRODID:-//ChamberMaster//Event Calendar 2.0//EN
METHOD:PUBLISH
X-PUBLISHED-TTL:P3D
REFRESH-INTERVAL:P3D
CALSCALE:GREGORIAN
BEGIN:VEVENT
DTSTART:20130515T000000Z
DTEND:20130515T020000Z
X-MICROSOFT-CDO-ALLDAYEVENT:FALSE
SUMMARY:Friends of LeDuc of Historic Hastings Meeting
DESCRIPTION:Friends of LeDuc of Historic Hastings meet on Tuesday\, May 14\, 7 p.m. at the Estate.  Following a short business meeting there will be a presentation by Dr. Lee Frelich of the U of M.  His topic is the Boreal Forest.\n\nFree & public invited.
X-ALT-DESC;FMTTYPE=text/html:Friends of LeDuc of Historic Hastings meet on Tuesday\, May 14\, 7 p.m. at the Estate. &nbsp\;Following a short business meeting there will be a presentation by Dr. Lee Frelich of the U of M. &nbsp\;His topic is the Boreal Forest.<br />\nFree &amp\; public invited.&nbsp\;
LOCATION:The LeDuc Historic Estate 1629 Vermillion Street Hastings\, MN 55033
UID:e.606.113821
SEQUENCE:3
DTSTAMP:20260421T101647Z
URL:https://www.hastingsmn.org/events/details/friends-of-leduc-of-historic-hastings-meeting-05-14-2013-113821
END:VEVENT

END:VCALENDAR
