BEGIN:VCALENDAR
VERSION:2.0
PRODID:-//ChamberMaster//Event Calendar 2.0//EN
METHOD:PUBLISH
X-PUBLISHED-TTL:P3D
REFRESH-INTERVAL:P3D
CALSCALE:GREGORIAN
BEGIN:VEVENT
DTSTART:20110511T000000Z
DTEND:20110511T020000Z
X-MICROSOFT-CDO-ALLDAYEVENT:FALSE
SUMMARY:Friends of LeDuc of Historic Hastings Meeting
DESCRIPTION:Friends of LeDuc of Historic Hastings will meet Tuesday\, May 10\, 7 p.m. at the Estate.  Following a short business meeting Cindy Thury Smith will do a presentation on Potholder Quilts.  Cindy is an expert quilter and curator of Hastings Pioneer Room.  Guests & members invited to attend.
X-ALT-DESC;FMTTYPE=text/html:Friends of LeDuc of Historic Hastings will meet Tuesday\, May 10\, 7 p.m. at the Estate.  Following a short business meeting Cindy Thury Smith will do a presentation on Potholder Quilts.  Cindy is an expert quilter and curator of Hastings Pioneer Room.  Guests &amp\; members invited to attend.
LOCATION:LeDuc Historic Estate 1629 Vermillion Street\, Hastings\, MN 55033
UID:e.606.112788
SEQUENCE:3
DTSTAMP:20260421T044455Z
URL:https://www.hastingsmn.org/events/details/friends-of-leduc-of-historic-hastings-meeting-05-10-2011-112788
END:VEVENT

END:VCALENDAR
