BEGIN:VCALENDAR
VERSION:2.0
PRODID:-//ChamberMaster//Event Calendar 2.0//EN
METHOD:PUBLISH
X-PUBLISHED-TTL:P3D
REFRESH-INTERVAL:P3D
CALSCALE:GREGORIAN
BEGIN:VEVENT
DTSTART:20120509T000000Z
DTEND:20120509T020000Z
X-MICROSOFT-CDO-ALLDAYEVENT:FALSE
SUMMARY:Friends of LeDuc of Historic Hastings Meeting
DESCRIPTION:Friends of LeDuc of Historic Hastings meet on Tuesday\, May 8\, 7 p.m. at the Estate\, 1629 Vermillion Street\, Hastings. Following a short business meeting the remainder of the evening will be devoted to the topic of Gardening.  Nancy Moe & Mirahda Sieh will speak about gardening projects at the LeDuc and especially highlight the upcoming Heritage Harvest Garden Celebration of June 2\, 10 a.m.- 1 p.m.  The community is invited to attend both of these FREE events
X-ALT-DESC;FMTTYPE=text/html:Friends of LeDuc of Historic Hastings meet on Tuesday\, May 8\, 7 p.m. at the Estate\, 1629 Vermillion Street\, Hastings. Following a short business meeting the remainder of the evening will be devoted to the topic of Gardening. &nbsp\;Nancy Moe &amp\; Mirahda Sieh will speak about gardening projects at the LeDuc and especially highlight the upcoming Heritage Harvest Garden Celebration of June 2\, 10 a.m.-&nbsp\;1 p.m. &nbsp\;The community is invited to attend both of these FREE events
LOCATION:The LeDuc Historic Estate\, 1629 Vermillion Street\, Hastings\, MN 55033
UID:e.606.113661
SEQUENCE:3
DTSTAMP:20260420T065617Z
URL:https://www.hastingsmn.org/events/details/friends-of-leduc-of-historic-hastings-meeting-05-08-2012-113661
END:VEVENT

END:VCALENDAR
