BEGIN:VCALENDAR
VERSION:2.0
PRODID:-//ChamberMaster//Event Calendar 2.0//EN
METHOD:PUBLISH
X-PUBLISHED-TTL:P3D
REFRESH-INTERVAL:P3D
CALSCALE:GREGORIAN
BEGIN:VEVENT
DTSTART:20120411T000000Z
DTEND:20120411T020000Z
X-MICROSOFT-CDO-ALLDAYEVENT:FALSE
SUMMARY:Friends of LeDuc of Historic Hastings Meeting
DESCRIPTION:Friends of LeDuc of Historic Hastings will meet on Tuesday\, April 10\, 7 p.m. at the Estate.  Following a brief business meeting Dennis Nygaard\, local Red Wing Pottery collector will give a presentation.  Dennis has recently been inducted into the Red Wing Archaeologists Hall of Fame.  He will explain his work and show samples of some of the most unusual Red Wing pieces.\n\n\n\nFREE and open to the public
X-ALT-DESC;FMTTYPE=text/html:Friends of LeDuc of Historic Hastings will meet on Tuesday\, April 10\, 7 p.m. at the Estate. &nbsp\;Following a brief business meeting Dennis Nygaard\, local Red Wing Pottery collector will give a presentation. &nbsp\;Dennis has recently been inducted into the Red Wing Archaeologists Hall of Fame. &nbsp\;He will explain his work and show samples of some of the most unusual Red Wing pieces.<br />\n<br />\nFREE and open to the public
LOCATION:LeDuc Historic Estate 1629 Vermillion Street\, Hastings
UID:e.606.113645
SEQUENCE:3
DTSTAMP:20260420T090017Z
URL:https://www.hastingsmn.org/events/details/friends-of-leduc-of-historic-hastings-meeting-04-10-2012-113645
END:VEVENT

END:VCALENDAR
