BEGIN:VCALENDAR
VERSION:2.0
PRODID:-//ChamberMaster//Event Calendar 2.0//EN
METHOD:PUBLISH
X-PUBLISHED-TTL:P3D
REFRESH-INTERVAL:P3D
CALSCALE:GREGORIAN
BEGIN:VEVENT
DTSTART:20130410T000000Z
DTEND:20130410T020000Z
X-MICROSOFT-CDO-ALLDAYEVENT:FALSE
SUMMARY:Friends of LeDuc of Historic Hastings Meeting
DESCRIPTION:Friends of LeDuc of Historic Hastings will meet on Tuesday\, April 9 at 7:00 p.m.   Following a short business meeting\, Mavis & Bob Voigt of the Denmark Township Historical Society will discuss the history of one of the oldest schoolhouses in Minnesota and explain the urgency in ensuring the restored Valley school will be a treasure for generations to come.  Free and open to the public.
X-ALT-DESC;FMTTYPE=text/html:Friends of LeDuc of Historic Hastings will meet on Tuesday\, April 9 at 7:00 p.m.&nbsp\;&nbsp\; Following a short business meeting\, Mavis &amp\; Bob Voigt of the Denmark Township Historical Society will discuss the history of one of the oldest schoolhouses in Minnesota and explain the urgency in ensuring&nbsp\;the restored Valley school will be a treasure for generations to come. &nbsp\;Free and open to the public.
LOCATION:LeDuc Historic Estate\, 1629 Vermillion Street\, Hastings\, MN 55033
UID:e.606.113794
SEQUENCE:3
DTSTAMP:20260419T132011Z
URL:https://www.hastingsmn.org/events/details/friends-of-leduc-of-historic-hastings-meeting-04-09-2013-113794
END:VEVENT

END:VCALENDAR
