BEGIN:VCALENDAR
VERSION:2.0
PRODID:-//ChamberMaster//Event Calendar 2.0//EN
METHOD:PUBLISH
X-PUBLISHED-TTL:P3D
REFRESH-INTERVAL:P3D
CALSCALE:GREGORIAN
BEGIN:VEVENT
DTSTART:20120314T000000Z
DTEND:20120314T020000Z
X-MICROSOFT-CDO-ALLDAYEVENT:FALSE
SUMMARY:Friends of LeDuc of Historic Hastings Meeting
DESCRIPTION:Friends of LeDuc of Historic Hastings meet on Tuesday\, March 13\, 7 p.m. at the Estate.  The program for the evening is focused on scary films which will be presented by Kristin & Justin Schaack.  They will show "The Ride Home\," "The Butler Did It\," & "The Room Upstairs\," all produced at the LeDuc House.  Kristin & Justin are Hastings natives\, have considerable filmmaking experience & have studied in California film schools.\n\n\n\nThis event is FREE and open to the public.  Popcorn will be provided\, but guests are invited to bring their own beverage.\n\n\n\nFriends of LeDuc of Historic Hastings is a Chapter of Dakota County Historical Society.  Please view the website:  www.dakotahistory.org
X-ALT-DESC;FMTTYPE=text/html:Friends of LeDuc of Historic Hastings meet on Tuesday\, March 13\, 7 p.m. at the Estate. &nbsp\;The program for the evening is focused on scary films which will be presented by Kristin &amp\; Justin Schaack. &nbsp\;They will show &quot\;The Ride Home\,&quot\; &quot\;The Butler Did It\,&quot\; &amp\; &quot\;The Room Upstairs\,&quot\; all produced at the LeDuc House. &nbsp\;Kristin &amp\; Justin are Hastings natives\, have considerable filmmaking experience &amp\; have studied in California film schools.<br />\n<br />\nThis event is FREE and open to the public. &nbsp\;Popcorn will be provided\, but guests are invited to bring their own beverage.<br />\n<br />\nFriends of LeDuc of Historic Hastings is a Chapter of Dakota County Historical Society. &nbsp\;Please view the website: &nbsp\;www.dakotahistory.org
LOCATION:LeDuc Historic Estate - 1629 Vermillion Street\, Hastings\, MN 55033
UID:e.606.113407
SEQUENCE:3
DTSTAMP:20260420T103519Z
URL:https://www.hastingsmn.org/events/details/friends-of-leduc-of-historic-hastings-meeting-03-13-2012-113407
END:VEVENT

END:VCALENDAR
