BEGIN:VCALENDAR
VERSION:2.0
PRODID:-//ChamberMaster//Event Calendar 2.0//EN
METHOD:PUBLISH
X-PUBLISHED-TTL:P3D
REFRESH-INTERVAL:P3D
CALSCALE:GREGORIAN
BEGIN:VEVENT
DTSTART:20130313T000000Z
DTEND:20130313T020000Z
X-MICROSOFT-CDO-ALLDAYEVENT:FALSE
SUMMARY:Friends of LeDuc of Historic Hastings Meeting
DESCRIPTION:Friends of LeDuc of Historic Hastings will meet on Tuesday\, March 12\, 7 p.m. at the Estate.  Following a short business meeting board members from Hastings Prescott Area Arts Council (HPAAC) will speak about the history of the organization and upcoming events.  Free and open to the public.
X-ALT-DESC;FMTTYPE=text/html:Friends of LeDuc of Historic Hastings will meet on Tuesday\, March 12\, 7 p.m. at the Estate. &nbsp\;Following a short business meeting board members from Hastings Prescott Area Arts Council (HPAAC) will speak about the history of the organization and upcoming events. &nbsp\;Free and open to the public.
LOCATION:LeDuc Historic Esate 1629 Vermillion Street\, Hastings\, MN 55033
UID:e.606.113781
SEQUENCE:3
DTSTAMP:20260419T132043Z
URL:https://www.hastingsmn.org/events/details/friends-of-leduc-of-historic-hastings-meeting-03-12-2013-113781
END:VEVENT

END:VCALENDAR
