BEGIN:VCALENDAR
VERSION:2.0
PRODID:-//ChamberMaster//Event Calendar 2.0//EN
METHOD:PUBLISH
X-PUBLISHED-TTL:P3D
REFRESH-INTERVAL:P3D
CALSCALE:GREGORIAN
BEGIN:VEVENT
DTSTART:20100310T010000Z
DTEND:20100310T020000Z
X-MICROSOFT-CDO-ALLDAYEVENT:FALSE
SUMMARY:Friends of LeDuc of Historic Hastings Meeting
DESCRIPTION:Friends of LeDuc of Historic Hastings monthly meeting.  Featured speaker will be Tom Barnard giving a presentation on the Llakeville Area Arts Center.  Members and visitors invited to attend.
X-ALT-DESC;FMTTYPE=text/html:Friends of LeDuc of Historic Hastings monthly meeting.  Featured speaker will be Tom Barnard giving a presentation on the Llakeville Area Arts Center.  Members and visitors invited to attend.
LOCATION:LeDuc Historic Estate
UID:e.606.111510
SEQUENCE:3
DTSTAMP:20260425T195244Z
URL:https://www.hastingsmn.org/events/details/friends-of-leduc-of-historic-hastings-meeting-03-09-2010-111510
END:VEVENT

END:VCALENDAR
