BEGIN:VCALENDAR
VERSION:2.0
PRODID:-//ChamberMaster//Event Calendar 2.0//EN
METHOD:PUBLISH
X-PUBLISHED-TTL:P3D
REFRESH-INTERVAL:P3D
CALSCALE:GREGORIAN
BEGIN:VEVENT
DTSTART:20110309T010000Z
DTEND:20110309T030000Z
X-MICROSOFT-CDO-ALLDAYEVENT:FALSE
SUMMARY:Friends of LeDuc of Historic Hastings Meeting
DESCRIPTION:Friends of LeDuc of Historic Hastings meeting with short business meeting followed by presentation by Kandice Nelson\, Director of Marketing & Development\, Burnsville Performing Arts Center.  A graduate of Hamline University\, Ms. Nelson comes with 6 years of experience as a senior promotion manager for VEE Corporation\, which produces "Sesame Street Live" and other work in broadcasting & media buying.
X-ALT-DESC;FMTTYPE=text/html:Friends of LeDuc of Historic Hastings meeting with short business meeting followed by presentation by Kandice Nelson\, Director of Marketing &amp\; Development\, Burnsville Performing Arts Center.  A graduate of Hamline University\, Ms. Nelson comes with 6 years of experience as a senior promotion manager for VEE Corporation\, which produces "Sesame Street Live" and other work in broadcasting &amp\; media buying.
LOCATION:LeDuc Historic Estate 1629 Vermillion Street\, Hastings
UID:e.606.112265
SEQUENCE:3
DTSTAMP:20260421T081541Z
URL:https://www.hastingsmn.org/events/details/friends-of-leduc-of-historic-hastings-meeting-03-08-2011-112265
END:VEVENT

END:VCALENDAR
