BEGIN:VCALENDAR
VERSION:2.0
PRODID:-//ChamberMaster//Event Calendar 2.0//EN
METHOD:PUBLISH
X-PUBLISHED-TTL:P3D
REFRESH-INTERVAL:P3D
CALSCALE:GREGORIAN
BEGIN:VEVENT
DTSTART:20120215T010000Z
DTEND:20120215T010000Z
X-MICROSOFT-CDO-ALLDAYEVENT:FALSE
SUMMARY:Friends of LeDuc of Historic Hastings Meeting
DESCRIPTION:Friends of LeDuc of Historic Hastings will meet on Tuesday\, February 14\, 7 p.m. at the LeDuc Historic Estate.  The discussion will center around programs for the year for the organization.  Members & visitors are invited to attend.  FREE
X-ALT-DESC;FMTTYPE=text/html:Friends of LeDuc of Historic Hastings will meet on Tuesday\, February 14\, 7 p.m. at the LeDuc Historic Estate. &nbsp\;The discussion will center around programs for the year for the organization. &nbsp\;Members &amp\; visitors are invited to attend. &nbsp\;FREE
LOCATION:LeDuc Historic Estate 1629 Vermillion Street\, Hastings\, MN 55033
UID:e.606.113394
SEQUENCE:3
DTSTAMP:20260420T142720Z
URL:https://www.hastingsmn.org/events/details/friends-of-leduc-of-historic-hastings-meeting-02-14-2012-113394
END:VEVENT

END:VCALENDAR
