BEGIN:VCALENDAR
VERSION:2.0
PRODID:-//ChamberMaster//Event Calendar 2.0//EN
METHOD:PUBLISH
X-PUBLISHED-TTL:P3D
REFRESH-INTERVAL:P3D
CALSCALE:GREGORIAN
BEGIN:VEVENT
DTSTART:20100210T010000Z
DTEND:20100210T030000Z
X-MICROSOFT-CDO-ALLDAYEVENT:FALSE
SUMMARY:Friends of LeDuc of Historic Hastings Meeting
DESCRIPTION:Business meeting at 7 p.m. followed by program.  Presented by Dick Graham who will speak about the Hastings/Prescott Fine Arts Organization.
X-ALT-DESC;FMTTYPE=text/html:Business meeting at 7 p.m. followed by program.  Presented by Dick Graham who will speak about the Hastings/Prescott Fine Arts Organization. 
LOCATION:LeDuc Historic Estate - 1629 Vermillion Street\, Hastings\, MN 55033
UID:e.606.111508
SEQUENCE:3
DTSTAMP:20260425T212950Z
URL:https://www.hastingsmn.org/events/details/friends-of-leduc-of-historic-hastings-meeting-02-09-2010-111508
END:VEVENT

END:VCALENDAR
