BEGIN:VCALENDAR
VERSION:2.0
PRODID:-//ChamberMaster//Event Calendar 2.0//EN
METHOD:PUBLISH
X-PUBLISHED-TTL:P3D
REFRESH-INTERVAL:P3D
CALSCALE:GREGORIAN
BEGIN:VEVENT
DTSTART:20110209T010000Z
DTEND:20110209T030000Z
X-MICROSOFT-CDO-ALLDAYEVENT:FALSE
SUMMARY:Friends of LeDuc of Historic Hastings Meeting
DESCRIPTION:Friends of LeDuc of Historic Hastings will meet on Tuesday\,  February 8\, 7 p.m. at the Estate.  There will be a short business meeting followed by a discussion of programs for the year.  Members and visitors invited to attend this free event.
X-ALT-DESC;FMTTYPE=text/html:Friends of LeDuc of Historic Hastings will meet on Tuesday\,  February 8\, 7 p.m. at the Estate.  There will be a short business meeting followed by a discussion of programs for the year.  Members and visitors invited to attend this free event.
LOCATION:LeDuc Historic Estate 1629 Vermillion Street\, Hastings\, MN 55033
UID:e.606.112025
SEQUENCE:3
DTSTAMP:20260421T095003Z
URL:https://www.hastingsmn.org/events/details/friends-of-leduc-of-historic-hastings-meeting-02-08-2011-112025
END:VEVENT

END:VCALENDAR
