BEGIN:VCALENDAR
VERSION:2.0
PRODID:-//ChamberMaster//Event Calendar 2.0//EN
METHOD:PUBLISH
X-PUBLISHED-TTL:P3D
REFRESH-INTERVAL:P3D
CALSCALE:GREGORIAN
BEGIN:VEVENT
DTSTART:20100714T000000Z
DTEND:20100714T020000Z
X-MICROSOFT-CDO-ALLDAYEVENT:FALSE
SUMMARY:Friends of LeDuc of Historic Hastings - Heritage Night
DESCRIPTION:Members & guests invited to attend monthly meeting of Friends of LeDuc of Historic Hastings.  Following a brief business meeting attendees will model clothing of the 19th & early 20th Century and explain one or two items that they have brought from that era.  Free & public encouraged to attend.  Special surprise treat proved by the staff of LeDuc Summer Camp for Youth.
X-ALT-DESC;FMTTYPE=text/html:Members &amp\; guests invited to attend monthly meeting of Friends of LeDuc of Historic Hastings.  Following a brief business meeting attendees will model clothing of the 19th &amp\; early 20th Century and explain one or two items that they have brought from that era.  Free &amp\; public encouraged to attend.  Special surprise treat proved by the staff of LeDuc Summer Camp for Youth.
LOCATION:LeDuc Historic Esate\, 1629 Vermillion Street\, Hastings\, MN 55033
UID:e.606.111810
SEQUENCE:3
DTSTAMP:20260425T141639Z
URL:https://www.hastingsmn.org/events/details/friends-of-leduc-of-historic-hastings-heritage-night-07-13-2010-111810
END:VEVENT

END:VCALENDAR
