BEGIN:VCALENDAR
VERSION:2.0
PRODID:-//ChamberMaster//Event Calendar 2.0//EN
METHOD:PUBLISH
X-PUBLISHED-TTL:P3D
REFRESH-INTERVAL:P3D
CALSCALE:GREGORIAN
BEGIN:VEVENT
DTSTART:20120816T000000Z
DTEND:20120816T020000Z
X-MICROSOFT-CDO-ALLDAYEVENT:FALSE
SUMMARY:Friends of LeDuc of Historic Hastings
DESCRIPTION:Friends of LeDuc of Historic Hastings will meet on Wednesday\, August 15\, 7 p.m. at the LeDuc Historic Estate\, 1629 Vermillion Street\, Hastings.  Note date change from August 14 to august 15.  After a short business meeting the group will travel to Lakeside Cemetery for the dedication of the Bateman footstone by Mayor Paul Hicks.  Richard Darsow has done considerable research on Bateman who was an early pioneer plowmaker in Hastings and has also restored the Bateman plow which stands in the carriage barn at LeDuc.  Bateman died 130 years ago\, but his gravestone has never been marked\, so it is only appropriate that Friends of LeDuc contributed to the placing of this footstone.\n\nThe meeting is free & open to the public.
X-ALT-DESC;FMTTYPE=text/html:Friends of LeDuc of Historic Hastings will meet on Wednesday\, August 15\, 7 p.m. at the LeDuc Historic Estate\, 1629 Vermillion Street\, Hastings. &nbsp\;Note date change from August 14 to august 15. &nbsp\;After a short business meeting the group will travel to Lakeside Cemetery for the dedication of the Bateman footstone by Mayor Paul Hicks. &nbsp\;Richard Darsow has done considerable research on Bateman who was an early pioneer plowmaker in Hastings and has also restored the Bateman plow which stands in the carriage barn at LeDuc. &nbsp\;Bateman died 130 years ago\, but his gravestone has never been marked\, so it is only appropriate that Friends of LeDuc contributed to the placing of this footstone.<br />\nThe meeting is free &amp\; open to the public.
LOCATION:1629 Vermillion Street\, Hastings\, MN 55033
UID:e.606.113689
SEQUENCE:3
DTSTAMP:20260420T014204Z
URL:https://www.hastingsmn.org/events/details/friends-of-leduc-of-historic-hastings-08-15-2012-113689
END:VEVENT

END:VCALENDAR
