BEGIN:VCALENDAR
VERSION:2.0
PRODID:-//ChamberMaster//Event Calendar 2.0//EN
METHOD:PUBLISH
X-PUBLISHED-TTL:P3D
REFRESH-INTERVAL:P3D
CALSCALE:GREGORIAN
BEGIN:VEVENT
DTSTART:20120711T000000Z
DTEND:20120711T020000Z
X-MICROSOFT-CDO-ALLDAYEVENT:FALSE
SUMMARY:Friends of LeDuc of Historic Hastings
DESCRIPTION:Friends of LeDuc of Historic Hastings will meet on Tuesday\, July 10\, 7 p.m. at the Estate.  Following a short business meeting\, Mayme Johnson\, Program Director of Carpenter Nature Center\,  will speak about the Point Douglas Cemetery. Point Douglas was once a booming town\, how nearly 200 people lived there and what caused its demise.  She will share stories of the people who lived there and how\, at one time\, this was a booming town with a sawmill\, two hotels\, a boarding house & a public school.\n\n\n\nFREE & open to the public.
X-ALT-DESC;FMTTYPE=text/html:Friends of LeDuc of Historic Hastings will meet on Tuesday\, July 10\, 7 p.m. at the Estate. &nbsp\;Following a short business meeting\, Mayme Johnson\, Program Director of Carpenter Nature Center\, &nbsp\;will speak about the Point Douglas Cemetery. Point Douglas was once a booming town\, how nearly 200 people lived there and what caused its demise. &nbsp\;She will share stories of the people who lived there and how\, at one time\, this was a booming town with a sawmill\, two hotels\, a boarding house &amp\; a public school.<br />\n<br />\nFREE &amp\; open to the public.
LOCATION:LeDuc Historic Estate 1629 Vermillion Street\, Hastings\, MN 55033
UID:e.606.113681
SEQUENCE:3
DTSTAMP:20260420T052146Z
URL:https://www.hastingsmn.org/events/details/friends-of-leduc-of-historic-hastings-07-10-2012-113681
END:VEVENT

END:VCALENDAR
