BEGIN:VCALENDAR
VERSION:2.0
PRODID:-//ChamberMaster//Event Calendar 2.0//EN
METHOD:PUBLISH
X-PUBLISHED-TTL:P3D
REFRESH-INTERVAL:P3D
CALSCALE:GREGORIAN
BEGIN:VEVENT
DTSTART:20110615T000000Z
DTEND:20110615T020000Z
X-MICROSOFT-CDO-ALLDAYEVENT:FALSE
SUMMARY:Friends of LeDuc of Historic Hastings
DESCRIPTION:Friends of LeDuc of Historic Hastings meets June 14\, 7 p.m. at the Estate.  Short business meeting followed by presentation by Dick Darsow on the story of the Sod Busting Plow that he discovered & restored.  Free & open to the public.
X-ALT-DESC;FMTTYPE=text/html:Friends of LeDuc of Historic Hastings meets June 14\, 7 p.m. at the Estate. &nbsp\;Short business meeting followed by presentation by Dick Darsow on the story of the Sod Busting Plow that he discovered &amp\; restored. &nbsp\;Free &amp\; open to the public.
LOCATION:LeDuc Historic Estate - 1629 Vermillion Street\, Hastings\, MN
UID:e.606.112791
SEQUENCE:3
DTSTAMP:20260421T023918Z
URL:https://www.hastingsmn.org/events/details/friends-of-leduc-of-historic-hastings-06-14-2011-112791
END:VEVENT

END:VCALENDAR
