BEGIN:VCALENDAR
VERSION:2.0
PRODID:-//ChamberMaster//Event Calendar 2.0//EN
METHOD:PUBLISH
X-PUBLISHED-TTL:P3D
REFRESH-INTERVAL:P3D
CALSCALE:GREGORIAN
BEGIN:VEVENT
DTSTART:20100609T000000Z
DTEND:20100609T020000Z
X-MICROSOFT-CDO-ALLDAYEVENT:FALSE
SUMMARY:Friends of LeDuc of Historic Hastings
DESCRIPTION:Friends of Leduc of Historic hastings will meet on June 8\, 7 p.m. at the Estate.  Following a short business meeting Tom Lewanski from Friends of the Mississippi River will speak about restoration efforts at the Hastings Sand Coulee Scientific and Natural Area and at the Vermillion River.  Learn about how important these conservation efforts are.  Members & guests encouraged to attend.
X-ALT-DESC;FMTTYPE=text/html:Friends of Leduc of Historic hastings will meet on June 8\, 7 p.m. at the Estate.  Following a short business meeting Tom Lewanski from Friends of the Mississippi River will speak about restoration efforts at the Hastings Sand Coulee Scientific and Natural Area and at the Vermillion River.  Learn about how important these conservation efforts are.  Members &amp\; guests encouraged to attend.
LOCATION:LeDuc Historic Estate\, 1629 Vermillion St.\, Hastings\, MN 55033
UID:e.606.111591
SEQUENCE:3
DTSTAMP:20260425T153941Z
URL:https://www.hastingsmn.org/events/details/friends-of-leduc-of-historic-hastings-06-08-2010-111591
END:VEVENT

END:VCALENDAR
