BEGIN:VCALENDAR
VERSION:2.0
PRODID:-//ChamberMaster//Event Calendar 2.0//EN
METHOD:PUBLISH
X-PUBLISHED-TTL:P3D
REFRESH-INTERVAL:P3D
CALSCALE:GREGORIAN
BEGIN:VEVENT
DTSTART:20110413T000000Z
DTEND:20110413T020000Z
X-MICROSOFT-CDO-ALLDAYEVENT:FALSE
SUMMARY:Friends of LeDuc of Historic Hastings
DESCRIPTION:Friends of LeDuc of Historic Hastings meeting on April 12\, 7 p.m. at the LeDuc Historic Estate.  Business meeting followed by discussion of the opening of the season and events of the summer.  Open to members and visitors
X-ALT-DESC;FMTTYPE=text/html:Friends of LeDuc of Historic Hastings meeting on April 12\, 7 p.m. at the LeDuc Historic Estate.  Business meeting followed by discussion of the opening of the season and events of the summer.  Open to members and visitors
LOCATION:1629 Vermillion St. Hastings\, MN 55033
UID:e.606.112276
SEQUENCE:3
DTSTAMP:20260421T062514Z
URL:https://www.hastingsmn.org/events/details/friends-of-leduc-of-historic-hastings-04-12-2011-112276
END:VEVENT

END:VCALENDAR
