BEGIN:VCALENDAR
VERSION:2.0
PRODID:-//ChamberMaster//Event Calendar 2.0//EN
METHOD:PUBLISH
X-PUBLISHED-TTL:P3D
REFRESH-INTERVAL:P3D
CALSCALE:GREGORIAN
BEGIN:VEVENT
DTSTART:20130213T010000Z
DTEND:20130213T030000Z
X-MICROSOFT-CDO-ALLDAYEVENT:FALSE
SUMMARY:Friends of LeDuc of Historic Hastings
DESCRIPTION:Friends of LeDuc of Historic Hastings will meet on Tuesday\, February 12\, 7 p.m. at the Estate.  Members and visitors are invited to discuss programs for 2013.
X-ALT-DESC;FMTTYPE=text/html:Friends of LeDuc of Historic Hastings will meet on Tuesday\, February 12\, 7 p.m. at the Estate. &nbsp\;Members and visitors are invited to discuss programs for 2013.
LOCATION:LeDuc Historic Estate 1629 Vermillion Street\, Hastings
UID:e.606.113773
SEQUENCE:3
DTSTAMP:20260419T151125Z
URL:https://www.hastingsmn.org/events/details/friends-of-leduc-of-historic-hastings-02-12-2013-113773
END:VEVENT

END:VCALENDAR
