BEGIN:VCALENDAR
VERSION:2.0
PRODID:-//ChamberMaster//Event Calendar 2.0//EN
METHOD:PUBLISH
X-PUBLISHED-TTL:P3D
REFRESH-INTERVAL:P3D
CALSCALE:GREGORIAN
BEGIN:VEVENT
DTSTART:20110916T233000Z
DTEND:20110917T023000Z
X-MICROSOFT-CDO-ALLDAYEVENT:FALSE
SUMMARY:Friday Night Dinner Cruise on St. Croix River
DESCRIPTION:What a great way to watch the sunset while cruising slowly down the St. Croix River.  This includes a buffet dinner of beef Marsala\, chicken\, delicious potatoes\, chef's vegetables\, assorted salads\, dinner rolls\, dessert and coffee.  There will be a cash bar on board for beverages\n\n	Boarding varies from: 98 Walnut Street\, Hudson\, WI 54016 on the Grand Duchess OR\n                     3291 St. Croix Trail South\, Afton\, MN on the Afton Princess
X-ALT-DESC;FMTTYPE=text/html:<p class="MsoBodyText" style="margin: 0in 0in 0pt">\n	<font color="#000000" face="Times New Roman" size="2">What a great way to watch the sunset while cruising slowly down the St. Croix River.<span style="mso-spacerun: yes">&nbsp\; </span>This includes a buffet dinner of beef Marsala\, chicken\, delicious potatoes\, chef&rsquo\;s vegetables\, assorted salads\, dinner rolls\, dessert and coffee.<span style="mso-spacerun: yes">&nbsp\; </span>There will be a cash bar on board for beverages</font></p>\n<p class="MsoNormal" style="margin: 0in 0in 0pt">\n	<span style="font-size: 10pt\; mso-bidi-font-size: 12.0pt"><font face="Times New Roman"><font color="#000000">Boarding varies from: 98 Walnut Street\, Hudson\, WI 54016 on the Grand Duchess <b>OR</b><o:p></o:p></font></font></span></p>\n<font color="#000000"><b><span style="font-family: 'times new roman'\; font-size: 10pt\; mso-bidi-font-size: 12.0pt\; mso-fareast-font-family: 'times new roman'\; mso-ansi-language: en-us\; mso-fareast-language: en-us\; mso-bidi-language: ar-sa"><span style="mso-spacerun: yes">&nbsp\;&nbsp\;&nbsp\;&nbsp\;&nbsp\;&nbsp\;&nbsp\;&nbsp\;&nbsp\;&nbsp\;&nbsp\;&nbsp\;&nbsp\;&nbsp\;&nbsp\;&nbsp\;&nbsp\;&nbsp\;&nbsp\; </span></span></b><span style="font-family: 'times new roman'\; font-size: 10pt\; mso-bidi-font-size: 12.0pt\; mso-fareast-font-family: 'times new roman'\; mso-ansi-language: en-us\; mso-fareast-language: en-us\; mso-bidi-language: ar-sa"><span style="mso-spacerun: yes">&nbsp\;</span>3291 St. Croix Trail South\, Afton\, MN on the Afton Princess</span></font>
LOCATION:Boarding varies from: 98 Walnut Street\, Hudson\, WI 54016 on the Grand Duchess OR 3291 St. Croix Trail South\, Afton\, MN on the Afton Princess
UID:e.606.113302
SEQUENCE:3
DTSTAMP:20260420T224150Z
URL:https://www.hastingsmn.org/events/details/friday-night-dinner-cruise-on-st-croix-river-09-16-2011-113302
END:VEVENT

END:VCALENDAR
