BEGIN:VCALENDAR
VERSION:2.0
PRODID:-//ChamberMaster//Event Calendar 2.0//EN
METHOD:PUBLISH
X-PUBLISHED-TTL:P3D
REFRESH-INTERVAL:P3D
CALSCALE:GREGORIAN
BEGIN:VEVENT
DTSTART:20111022T000000Z
DTEND:20111022T020000Z
X-MICROSOFT-CDO-ALLDAYEVENT:FALSE
SUMMARY:Friday Night Dinner Cruise
DESCRIPTION:What a great way to watch the sunset while cruising slowly down the St. Croix River.  This includes a buffet dinner of beef Marsala\, chicken\, delicious potatoes\, chef's vegetables\, assorted salads\, dinner rolls\, dessert and coffee.  There will be a cash bar on board for beverages.
X-ALT-DESC;FMTTYPE=text/html:<p class="MsoBodyText" style="margin: 0in 0in 0pt">\n	<font color="#000000" face="Times New Roman" size="2">What a great way to watch the sunset while cruising slowly down the St. Croix River.<span style="mso-spacerun: yes">&nbsp\; </span>This includes a buffet dinner of beef Marsala\, chicken\, delicious potatoes\, chef&rsquo\;s vegetables\, assorted salads\, dinner rolls\, dessert and coffee.<span style="mso-spacerun: yes">&nbsp\; </span>There will be a cash bar on board for beverages. </font></p>\n
LOCATION:3291 St. Croix Trail South\, Afton\,MN aboard the Afton Princess
UID:e.606.113305
SEQUENCE:3
DTSTAMP:20260420T191740Z
URL:https://www.hastingsmn.org/events/details/friday-night-dinner-cruise-10-21-2011-113305
END:VEVENT

END:VCALENDAR
