BEGIN:VCALENDAR
VERSION:2.0
PRODID:-//ChamberMaster//Event Calendar 2.0//EN
METHOD:PUBLISH
X-PUBLISHED-TTL:P3D
REFRESH-INTERVAL:P3D
CALSCALE:GREGORIAN
BEGIN:VEVENT
DTSTART:20130404T123000Z
DTEND:20130404T143000Z
X-MICROSOFT-CDO-ALLDAYEVENT:FALSE
SUMMARY:Fraud Prevention Seminar for current Chamber Members
DESCRIPTION:Sponsored by: Merchants Bank\, Hastings Area Chamber of Commerce\, and Cottage Grove Area Chamber of Commerce\n\n	 \n\n	Thursday\, April 4 at River Oaks Public Golf Course\n\n	7:30-8:00 AM  Networking\n\n	8:00-9:30 AM  Chamber of Commerce Breakfast Session \n\n	Cost is $6.  Continental breakfast will be served.\n\n	 \n\n	Financial Crimes\, Trends and More with featured speaker\, John McCullough\, Certified Fraud Examiner and President of the nonprofit organization Financial and Retailers Protection Association.  \n\n	Businesses are increasingly under criminal attack by fraudsters using multiple channels to steal your earnings.  Learn what you can do to avoid major financial damage and legal issues. Business owners\, accountants\, CFOs\, CIOs\, COOs\, IT & payroll managers\, or anyone involved in bank transactions and financial security for a business will benefit from attending.  \n\n	 \n\n	Please RSVP by April 2 by:\n\n	- Calling the Hastings Area Chamber of Commerce at (651) 437-6775\n\n	- Or by email to Michelle@HastingsMN.org
X-ALT-DESC;FMTTYPE=text/html:<span style="color: #71463e\; font-size: 11pt"><b>Sponsored by: Merchants Bank\, Hastings Area Chamber of Commerce\, and Cottage Grove Area Chamber of Commerce</b></span>\n<p style="margin-top: 0px\; font-family: Arial\, Helvetica\, sans-serif\; margin-bottom: 0px\; color: #333333\; font-size: 10pt\; font-weight: bold">\n	&nbsp\;</p>\n<p style="margin-top: 0px\; font-family: Arial\, Helvetica\, sans-serif\; margin-bottom: 0px\; color: #333333\; font-size: 10pt\; font-weight: bold">\n	<span style="color: #2b6aa9"><strong>Thursday\, April 4 at </strong></span><span style="color: #2b6aa9"><strong>River Oaks Public Golf Course</strong></span></p>\n<div style="font-family: Arial\, Helvetica\, sans-serif\; color: #333333\; font-size: 10pt">\n	<span style="color: #2b6aa9">7:30-8:00 AM&nbsp\; Networking</span></div>\n<p style="margin-top: 0px\; font-family: Arial\, Helvetica\, sans-serif\; margin-bottom: 0px\; color: #333333\; font-size: 10pt">\n	<span style="color: #2b6aa9">8:00-9:30&nbsp\;AM&nbsp\; Chamber of Commerce Breakfast Session&nbsp\;</span></p>\n<p style="margin-top: 0px\; font-family: Arial\, Helvetica\, sans-serif\; margin-bottom: 0px\; color: #333333\; font-size: 10pt">\n	<span style="color: #2b6aa9"><strong>Cost is $6.</strong>&nbsp\; Continental breakfast will be served.</span></p>\n<p style="margin-top: 0px\; font-family: Arial\, Helvetica\, sans-serif\; margin-bottom: 0px\; color: #333333\; margin-left: 30px\; font-size: 10pt">\n	&nbsp\;</p>\n<p style="margin-top: 0px\; font-family: Arial\, Helvetica\, sans-serif\; margin-bottom: 0px\; color: #333333\; font-size: 10pt">\n	<span style="font-family: Arial\, Helvetica\, sans-serif\; color: #333333\; font-size: 10pt"><strong>Financial Crimes\, Trends and More</strong> with featured speaker\,&nbsp\;John McCullough\, Certified Fraud Examiner and President of&nbsp\;the nonprofit organization Financial and Retailers Protection Association.&nbsp\;&nbsp\;</span></p>\n<p style="margin-top: 0px\; font-family: Arial\, Helvetica\, sans-serif\; margin-bottom: 0px\; color: #333333\; font-size: 10pt">\n	<span style="font-family: Arial\, Helvetica\, sans-serif\; color: #333333\; font-size: 10pt">Businesses are increasingly under criminal attack by fraudsters using multiple channels to steal your earnings.&nbsp\; Learn what you can do to&nbsp\;avoid major financial damage and legal issues.&nbsp\;Business owners\, accountants\, CFOs\, CIOs\, COOs\, IT &amp\; payroll managers\,&nbsp\;or anyone involved in bank transactions and financial security for a business will&nbsp\;benefit from attending.&nbsp\; </span></p>\n<p style="margin-top: 0px\; font-family: Arial\, Helvetica\, sans-serif\; margin-bottom: 0px\; color: #333333\; font-size: 10pt">\n	&nbsp\;</p>\n<p style="margin-top: 0px\; margin-bottom: 0px\; color: #ff6600\; font-size: 11pt">\n	<span style="font-family: arial\, helvetica\, sans-serif\; color: #71463e\; font-size: 12pt"><span><strong>Please RSVP by&nbsp\;April 2 by:</strong></span></span></p>\n<p style="margin-top: 0px\; font-family: Arial\, Helvetica\, sans-serif\; margin-bottom: 0px\; color: #333333\; font-size: 10pt">\n	<span style="font-family: arial\, helvetica\, sans-serif\; color: #71463e\; font-size: 12pt"><strong>- Calling&nbsp\;</strong><strong>the Hastings Area Chamber of Commerce&nbsp\;at (651) 437-6775</strong></span></p>\n<p style="margin-top: 0px\; font-family: Arial\, Helvetica\, sans-serif\; margin-bottom: 0px\; color: #333333\; font-size: 10pt">\n	<span style="font-family: arial\, helvetica\, sans-serif\; color: #71463e\; font-size: 12pt"><strong>-&nbsp\;Or by email to <u>Michelle@HastingsMN.org</u></strong></span></p>\n
LOCATION:River Oaks Public Golf Course 11099 South Highway 61 Cottage Grove\, MN
UID:e.606.113792
SEQUENCE:3
DTSTAMP:20260419T131331Z
URL:https://www.hastingsmn.org/events/details/fraud-prevention-seminar-for-current-chamber-members-04-04-2013-113792
END:VEVENT

END:VCALENDAR
