BEGIN:VCALENDAR
VERSION:2.0
PRODID:-//ChamberMaster//Event Calendar 2.0//EN
METHOD:PUBLISH
X-PUBLISHED-TTL:P3D
REFRESH-INTERVAL:P3D
CALSCALE:GREGORIAN
BEGIN:VEVENT
DTSTART:20110924T140000Z
DTEND:20110924T210000Z
X-MICROSOFT-CDO-ALLDAYEVENT:FALSE
SUMMARY:Fourth Annual LeDuc/Simmons Country Market
DESCRIPTION:There will be an antique and collectible flea market in the Simmons Activity Room. Throughout the Estate Grounds there will be large plant and bake sales\, and vendors will provide a variety of fresh produce\, jams\, jellies & preserves\, jewelry\, hand painted cards\, textile art\, and other arts and craft items.   For more information\, call 651-437-7055 or visit www.dakotahistory.org
X-ALT-DESC;FMTTYPE=text/html:<div>\n	<font face="Verdana" size="1">There will be an antique and collectible flea market in the Simmons Activity Room. Throughout the Estate Grounds there will be large plant and bake sales\, and vendors will provide a variety of fresh produce\, jams\, jellies &amp\; preserves\, jewelry\, hand painted cards\, textile art\, and other arts and craft items.&nbsp\;&nbsp\; For more information\, call 651-437-7055 or visit </font><a href="http://www.dakotahistory.org/" target="_blank"><font face="Verdana" size="1">www.dakotahistory.org</font></a></div>\n
LOCATION:LeDuc Historic Estate\, 1629 Vermillion Street
UID:e.606.112229
SEQUENCE:3
DTSTAMP:20260420T225245Z
URL:https://www.hastingsmn.org/events/details/fourth-annual-leduc-simmons-country-market-09-24-2011-112229
END:VEVENT

END:VCALENDAR
