BEGIN:VCALENDAR
VERSION:2.0
PRODID:-//ChamberMaster//Event Calendar 2.0//EN
METHOD:PUBLISH
X-PUBLISHED-TTL:P3D
REFRESH-INTERVAL:P3D
CALSCALE:GREGORIAN
BEGIN:VEVENT
DTSTART;VALUE=DATE:20110505
DTEND;VALUE=DATE:20110508
TRANSP:TRANSPARENT
X-MICROSOFT-CDO-ALLDAYEVENT:TRUE
SUMMARY:Flip Flop Kid Swap Consignment Sale
DESCRIPTION:Quality Kid Consignment Sale
X-ALT-DESC;FMTTYPE=text/html:Quality Kid Consignment Sale
LOCATION:Hastings Civic Arena Hwy 316 & Hwy 61
UID:e.606.112261
SEQUENCE:3
DTSTAMP:20260421T041533Z
URL:https://www.hastingsmn.org/events/details/flip-flop-kid-swap-consignment-sale-05-05-2011-112261
END:VEVENT

END:VCALENDAR
