BEGIN:VCALENDAR
VERSION:2.0
PRODID:-//ChamberMaster//Event Calendar 2.0//EN
METHOD:PUBLISH
X-PUBLISHED-TTL:P3D
REFRESH-INTERVAL:P3D
CALSCALE:GREGORIAN
BEGIN:VEVENT
DTSTART:20120614T223000Z
DTEND:20120615T000000Z
X-MICROSOFT-CDO-ALLDAYEVENT:FALSE
SUMMARY:Flag Day
DESCRIPTION:A community program commemorating the adoption of the flag of the United States. In 1916\, President Woodrow Wilson issued a proclamation that officially established June 14th as Flag Day\; in August 1949\, National Flag Day was established by a Act of Congress.
X-ALT-DESC;FMTTYPE=text/html:<span style="font-family: verdana"><span style="font-size: 11px">A community program commemorating the adoption of the flag of the United States. In 1916\, President Woodrow Wilson issued a proclamation that officially established June&nbsp\;14th as Flag Day\; in August 1949\, National Flag Day was established by a Act of Congress.</span></span>
LOCATION:Nelson Lucking American Legion 50 Sibley St Hastings MN 55033
UID:e.606.113658
SEQUENCE:3
DTSTAMP:20260420T065808Z
URL:https://www.hastingsmn.org/events/details/flag-day-06-14-2012-113658
END:VEVENT

END:VCALENDAR
