BEGIN:VCALENDAR
VERSION:2.0
PRODID:-//ChamberMaster//Event Calendar 2.0//EN
METHOD:PUBLISH
X-PUBLISHED-TTL:P3D
REFRESH-INTERVAL:P3D
CALSCALE:GREGORIAN
BEGIN:VEVENT
DTSTART:20130330T143000Z
DTEND:20130330T153000Z
X-MICROSOFT-CDO-ALLDAYEVENT:FALSE
SUMMARY:Fit Camp
DESCRIPTION:Interval style fitness class designed to be tailored to all fitness levels.  You can kick it up or lay it back - whichever you need to do to get the best workout for you!  All ages\, sizes and fitness levels welcome!\n\n\n\nThe class is FREE!!!  We are just like-minded individuals that know we need to move our body to be healthy!  Wellness coaches are running the class and ready to help you set your pace\, keep you motivated and provide support.  Feel free to bring people with you!
X-ALT-DESC;FMTTYPE=text/html:Interval style fitness class designed to be tailored to all fitness levels. &nbsp\;You can kick it up or lay it back - whichever you need to do to get the best workout for you! &nbsp\;All ages\, sizes and fitness levels welcome!<br />\n<br />\nThe class is FREE!!! &nbsp\;We are just like-minded individuals that know we need to move our body to be healthy! &nbsp\;Wellness coaches are running the class and ready to help you set your pace\, keep you motivated and provide support. &nbsp\;Feel free to bring people with you!
LOCATION:G and R Nutrition\, 275 33rd Street West\, Hastings
UID:e.606.113795
SEQUENCE:3
DTSTAMP:20260419T145135Z
URL:https://www.hastingsmn.org/events/details/fit-camp-03-30-2013-113795
END:VEVENT

END:VCALENDAR
