BEGIN:VCALENDAR
VERSION:2.0
PRODID:-//ChamberMaster//Event Calendar 2.0//EN
METHOD:PUBLISH
X-PUBLISHED-TTL:P3D
REFRESH-INTERVAL:P3D
CALSCALE:GREGORIAN
BEGIN:VEVENT
DTSTART;VALUE=DATE:20090923
DTEND;VALUE=DATE:20091101
TRANSP:TRANSPARENT
X-MICROSOFT-CDO-ALLDAYEVENT:TRUE
SUMMARY:Fischer's Croix Farm Orchard
DESCRIPTION:Pre-picked or pick your own apples and raspberries. Pumpkin Patch for the kids\, come and pick your favorite! September - October 31st\, your family can enjoy straw mountain\, farm animals\, apple tasting. Corn maze and hayrides on weekends Mid September 11 am - 5 pm. For more information\, call (651) 437-7126 or visit www.fischerscroixfarmorchard.com.
X-ALT-DESC;FMTTYPE=text/html:<div><span style="font-family: Verdana">Pre-picked or pick your own apples and raspberries. Pumpkin Patch for the kids\, come and pick your favorite! September - October 31st\, your family can enjoy straw mountain\, farm animals\, apple tasting. Corn maze and hayrides on weekends Mid September 11 am - 5 pm. For more information\, call (651) 437-7126 or visit<b> </b><a href="http://www.fischerscroixfarmorchard.com/" target="_blank">www.fischerscroixfarmorchard.com</a><b>.</b>&nbsp\;</span></div>
LOCATION:Fischer's Croix Farm Orchard 12971 St. Croix Trail S
UID:e.606.110898
SEQUENCE:3
DTSTAMP:20260426T042410Z
URL:https://www.hastingsmn.org/events/details/fischer-s-croix-farm-orchard-09-23-2009-110898
END:VEVENT

END:VCALENDAR
