BEGIN:VCALENDAR
VERSION:2.0
PRODID:-//ChamberMaster//Event Calendar 2.0//EN
METHOD:PUBLISH
X-PUBLISHED-TTL:P3D
REFRESH-INTERVAL:P3D
CALSCALE:GREGORIAN
BEGIN:VEVENT
DTSTART;VALUE=DATE:20120225
DTEND;VALUE=DATE:20120227
TRANSP:TRANSPARENT
X-MICROSOFT-CDO-ALLDAYEVENT:TRUE
SUMMARY:February Dinner & Dancec Retreat at The Afton House Inn
DESCRIPTION:Fun & Romance are the theme for this weekend retreat!\n\n	Imagine you and your partner filled with romance and adventure\n\n	as you learn fun and romantic Latin and Ballroom dances with instructor Tom Larson.\n\n	 \n\n	Package A: Includes Welcome Reception with Hors d'oeuvres\, dance lessons\, 3-Course Dinner\, Hotel Accommodations in a Jacuzzi and Fireplace Suit with a Bottle of Champagne and continental breakfast. $335/couple includes tax and gratuity. \n\n	Package B: Includes Welcome Reception with Hors d'oeuvres\, Dance Lessons & 3-Course Dinner. $179/Couple includes tax and gratuity.
X-ALT-DESC;FMTTYPE=text/html:<p>\n	<span lang="EN">Fun &amp\; Romance are the theme for this weekend retreat!<br />\n	Imagine you and your partner filled with romance and adventure<br />\n	as you learn fun and romantic Latin and Ballroom dances with instructor Tom Larson.</span><br />\n	&nbsp\;</p>\n<p>\n	<span lang="EN">Package A: Includes Welcome Reception with Hors d&#39\;oeuvres\, dance lessons\, 3-Course Dinner\, Hotel Accommodations in a Jacuzzi and Fireplace Suit with a Bottle of Champagne and continental breakfast. $335/couple includes tax and gratuity. </span></p>\n<p>\n	<span lang="EN">Package B: Includes Welcome Reception with Hors d&#39\;oeuvres\, Dance Lessons &amp\; 3-Course Dinner. $179/Couple includes tax and gratuity.</span></p>\n
LOCATION:3291 St. Croix Trail South\, Afton MN 55001
UID:e.606.113369
SEQUENCE:3
DTSTAMP:20260420T124153Z
URL:https://www.hastingsmn.org/events/details/february-dinner-dancec-retreat-at-the-afton-house-inn-02-25-2012-113369
END:VEVENT

END:VCALENDAR
