BEGIN:VCALENDAR
VERSION:2.0
PRODID:-//ChamberMaster//Event Calendar 2.0//EN
METHOD:PUBLISH
X-PUBLISHED-TTL:P3D
REFRESH-INTERVAL:P3D
CALSCALE:GREGORIAN
BEGIN:VEVENT
DTSTART:20120617T170000Z
DTEND:20120617T190000Z
X-MICROSOFT-CDO-ALLDAYEVENT:FALSE
SUMMARY:Father's Day Sunday Brunch Cruise
DESCRIPTION:Enjoy a complimentary glass of champagne as you board.  Then relax and watch the eagles fly over while delighting in our delicious buffet brunch.\n\n	\n		\n			Menu:\n		\n			Assorted Fresh Fruits and Assorted Cheeses with Crackers\n		\n			Assorted Fresh Vegetables with Dip\n		\n			House Made Pasta Salads\, Caesar Salad
X-ALT-DESC;FMTTYPE=text/html:<p style="border-bottom: medium none\; border-left: medium none\; padding-bottom: 0in\; line-height: 20.4pt\; margin: 0in -9.75pt 11.25pt\; padding-left: 0in\; padding-right: 0in\; background: #e5e5e5\; border-top: medium none\; border-right: medium none\; padding-top: 0in\; mso-border-left-alt: solid #d1d1d1 .75pt\; mso-border-right-alt: solid #d1d1d1 .75pt\; mso-padding-alt: 0in 0in 0in 0in">\n	<span lang="EN-GB" style="color: #666666\; font-size: 9pt\; mso-ansi-language: en-gb">Enjoy a&nbsp\;complimentary glass of champagne as you board.<span style="mso-spacerun: yes">&nbsp\; </span>Then relax and watch the eagles fly over while delighting in our delicious buffet brunch.</span><span lang="EN-GB" style="font-family: helvetica\; color: #666666\; font-size: 9pt\; mso-ansi-language: en-gb"><o:p></o:p></span></p>\n<div style="border-bottom: medium none\; border-left: #d1d1d1 0.75pt solid\; padding-bottom: 0in\; padding-left: 0in\; padding-right: 0in\; background: #e5e5e5\; border-top: medium none\; border-right: #d1d1d1 0.75pt solid\; padding-top: 0in">\n	<ul>\n		<li style="border-bottom: medium none\; border-left: medium none\; padding-bottom: 0in\; line-height: 20.4pt\; margin: 0in -9.75pt 11.25pt\; padding-left: 0in\; padding-right: 0in\; border-top: medium none\; border-right: medium none\; padding-top: 0in\; mso-border-left-alt: solid #d1d1d1 .75pt\; mso-border-right-alt: solid #d1d1d1 .75pt\; mso-padding-alt: 0in 0in 0in 0in">\n			<span lang="EN-GB" style="font-family: helvetica\; color: #666666\; font-size: 9pt\; mso-ansi-language: en-gb">Menu:</span></li>\n		<li style="border-bottom: medium none\; border-left: medium none\; padding-bottom: 0in\; line-height: 20.4pt\; margin: 0in -9.75pt 11.25pt\; padding-left: 0in\; padding-right: 0in\; border-top: medium none\; border-right: medium none\; padding-top: 0in\; mso-border-left-alt: solid #d1d1d1 .75pt\; mso-border-right-alt: solid #d1d1d1 .75pt\; mso-padding-alt: 0in 0in 0in 0in">\n			<span lang="EN-GB" style="font-family: helvetica\; color: #666666\; font-size: 9pt\; mso-ansi-language: en-gb">Assorted Fresh Fruits&nbsp\;and Assorted&nbsp\;Cheeses with Crackers</span></li>\n		<li style="border-bottom: medium none\; border-left: medium none\; padding-bottom: 0in\; line-height: 20.4pt\; margin: 0in -9.75pt 11.25pt\; padding-left: 0in\; padding-right: 0in\; border-top: medium none\; border-right: medium none\; padding-top: 0in\; mso-border-left-alt: solid #d1d1d1 .75pt\; mso-border-right-alt: solid #d1d1d1 .75pt\; mso-padding-alt: 0in 0in 0in 0in">\n			<span lang="EN-GB" style="font-family: helvetica\; color: #666666\; font-size: 9pt\; mso-ansi-language: en-gb">Assorted Fresh Vegetables with Dip</span></li>\n		<li style="border-bottom: medium none\; border-left: medium none\; padding-bottom: 0in\; line-height: 20.4pt\; margin: 0in -9.75pt 11.25pt\; padding-left: 0in\; padding-right: 0in\; border-top: medium none\; border-right: medium none\; padding-top: 0in\; mso-border-left-alt: solid #d1d1d1 .75pt\; mso-border-right-alt: solid #d1d1d1 .75pt\; mso-padding-alt: 0in 0in 0in 0in">\n			<span lang="EN-GB" style="font-family: helvetica\; color: #666666\; font-size: 9pt\; mso-ansi-language: en-gb">House Made Pasta Salads\, Caesar Salad</span></li>\n	</ul>\n</div>\n<ul>\n</ul>\n
LOCATION:98 Walnut Street\, Hudson\, WI 54016
UID:e.606.113674
SEQUENCE:3
DTSTAMP:20260420T065328Z
URL:https://www.hastingsmn.org/events/details/father-s-day-sunday-brunch-cruise-06-17-2012-113674
END:VEVENT

END:VCALENDAR
