BEGIN:VCALENDAR
VERSION:2.0
PRODID:-//ChamberMaster//Event Calendar 2.0//EN
METHOD:PUBLISH
X-PUBLISHED-TTL:P3D
REFRESH-INTERVAL:P3D
CALSCALE:GREGORIAN
BEGIN:VEVENT
DTSTART:20120617T220000Z
DTEND:20120618T003000Z
X-MICROSOFT-CDO-ALLDAYEVENT:FALSE
SUMMARY:Father's Day Comedy Cruise
DESCRIPTION:You\, your Father and the Four Funny Fathers will make this Father's Day the best one yet!  Scott Hanson\, Jeff Gerbino\, Bob Demaris\, and Pete Borchers will make you laugh all the way down the river!  \n\n	\n\n	Come hungry so you can enjoy our fabulous Herb Baked Chicken and Zesty Slow Cooked BBQ Ribs buffet with Buttered Parsley Potatoes\, Chef's vegetable choice\, Assorted Pasta Salads\, Caesar Salad\, Rolls & Butter.\n\n	 \n\n	Their will be a cash bar on board if you would like additional beverages.
X-ALT-DESC;FMTTYPE=text/html:<p class="MsoNormal" style="margin: 0in 0in 0pt">\n	<span style="font-size: 11px"><span style="font-family: verdana"><span lang="EN" style="color: #222222\; mso-ansi-language: en">You\, your Father and the Four Funny Fathers will make this Father&#39\;s Day the best one yet!&nbsp\; Scott Hanson\, Jeff Gerbino\, Bob Demaris\, and Pete Borchers will make you laugh all the way down the river!&nbsp\;&nbsp\;<br />\n	<br />\n	Come hungry so you can enjoy our fabulous Herb Baked Chicken and Zesty Slow Cooked BBQ Ribs buffet with Buttered Parsley Potatoes\, Chef&#39\;s vegetable choice\, Assorted Pasta Salads\, Caesar Salad\, Rolls &amp\; Butter.<br />\n	&nbsp\;<br />\n	Their will be a cash bar on board if you would like additional beverages.</span></span></span><span lang="EN" style="font-family: arial\; color: #222222\; font-size: 9pt\; mso-ansi-language: en"><o:p></o:p></span></p>\n
LOCATION:98 Walnut Street\, Hudson\, WI 54016
UID:e.606.113673
SEQUENCE:3
DTSTAMP:20260420T051159Z
URL:https://www.hastingsmn.org/events/details/father-s-day-comedy-cruise-06-17-2012-113673
END:VEVENT

END:VCALENDAR
