BEGIN:VCALENDAR
VERSION:2.0
PRODID:-//ChamberMaster//Event Calendar 2.0//EN
METHOD:PUBLISH
X-PUBLISHED-TTL:P3D
REFRESH-INTERVAL:P3D
CALSCALE:GREGORIAN
BEGIN:VEVENT
DTSTART:20100821T150000Z
DTEND:20100821T220000Z
X-MICROSOFT-CDO-ALLDAYEVENT:FALSE
SUMMARY:Farm\, Food & Fun Fair at the LeDuc Historic Estate
DESCRIPTION:An event that is reminiscent of the agricultural lives of the LeDucs. A return to the earth in which there will be vendors selling locally grown produce\, plants\, canned goods and baked goods. Fine crafters & special needleworkers will be on hand to sell their wares. At 5 p.m. there will be an old-fashioned basket social.
X-ALT-DESC;FMTTYPE=text/html:<div>An event that is reminiscent of the agricultural lives of the LeDucs. A return to the earth in which there will be vendors selling locally grown produce\, plants\, canned goods and baked goods. Fine crafters &amp\; special needleworkers will be on hand to sell their wares. At 5 p.m. there will be an old-fashioned basket social.</div>
LOCATION:LeDuc Historic Estate
UID:e.606.111572
SEQUENCE:3
DTSTAMP:20260425T140326Z
URL:https://www.hastingsmn.org/events/details/farm-food-fun-fair-at-the-leduc-historic-estate-08-21-2010-111572
END:VEVENT

END:VCALENDAR
