BEGIN:VCALENDAR
VERSION:2.0
PRODID:-//ChamberMaster//Event Calendar 2.0//EN
METHOD:PUBLISH
X-PUBLISHED-TTL:P3D
REFRESH-INTERVAL:P3D
CALSCALE:GREGORIAN
BEGIN:VEVENT
DTSTART:20130321T213000Z
DTEND:20130322T000000Z
X-MICROSOFT-CDO-ALLDAYEVENT:FALSE
SUMMARY:Farewell Open House for Dave Osberg
DESCRIPTION:Dave Osberg is ending his 24 years with the City of Hastings after accepting the City Administrator position for the City of Eagan.  There will be a farewell open house for Dave\, hosted by the City and held at Schoolhouse Square Event Center. Stop by to wish him all the best and help give him a great send off! Light appetizers will be served along with a cash bar. There will be a brief presentation at 6:00 PM.
X-ALT-DESC;FMTTYPE=text/html:<div style="color: gray">\n	<p style="margin-top: 0px\; font-family: Arial\, Helvetica\, sans-serif\; margin-bottom: 0px\; color: #333333\; font-size: 10pt">\n		<span>Dave Osberg is ending his 24 years with the City of Hastings after accepting the City Administrator position for the City of Eagan. &nbsp\;There will be a farewell open house for Dave\, hosted by the City and held at Schoolhouse Square Event Center. Stop by to wish him all the best and help give him a great send off! Light appetizers will be served along with a cash bar. There will be a brief presentation at 6:00 PM.</span></p>\n</div>\n
LOCATION:Schoolhouse Square Event Center 101 - 10th Street E (2nd floor above Premier Bank)
UID:e.606.113790
SEQUENCE:3
DTSTAMP:20260419T131532Z
URL:https://www.hastingsmn.org/events/details/farewell-open-house-for-dave-osberg-03-21-2013-113790
END:VEVENT

END:VCALENDAR
