BEGIN:VCALENDAR
VERSION:2.0
PRODID:-//ChamberMaster//Event Calendar 2.0//EN
METHOD:PUBLISH
X-PUBLISHED-TTL:P3D
REFRESH-INTERVAL:P3D
CALSCALE:GREGORIAN
BEGIN:VEVENT
DTSTART;VALUE=DATE:20111007
DTEND;VALUE=DATE:20111010
TRANSP:TRANSPARENT
X-MICROSOFT-CDO-ALLDAYEVENT:TRUE
SUMMARY:Fall Fair & Ski/Snowboard Swap
DESCRIPTION:Ski & Snowboard Swap.  Special buy on Season Passes\n\n\n\nSALE ONLY ON FRIDAY from 4 - 9 p.m.\n\n\n\nSALE AND FAIR SAT. & SUN. from 11 a.m. - 5 p.m. Free chairlift and hayrides\; free inflatables jumping/activities\, pumpkin painting and free dig for prizes in the haystack.
X-ALT-DESC;FMTTYPE=text/html:Ski &amp\; Snowboard Swap.&nbsp\; Special buy on Season Passes<br />\n<br />\n<span style="color: #ff0000">SALE ONLY ON FRIDAY</span> from 4 - 9 p.m.<br />\n<br />\n<span style="color: #ff0000">SALE AND FAIR SAT. &amp\; SUN.</span>&nbsp\;from 11 a.m. - 5 p.m. Free chairlift and hayrides\; free inflatables jumping/activities\, pumpkin painting and free dig for prizes in the haystack.
LOCATION:Afton Alps 6600 Peller Ave S Hastings MN
UID:e.606.113319
SEQUENCE:3
DTSTAMP:20260420T191925Z
URL:https://www.hastingsmn.org/events/details/fall-fair-ski-snowboard-swap-10-07-2011-113319
END:VEVENT

END:VCALENDAR
