BEGIN:VCALENDAR
VERSION:2.0
PRODID:-//ChamberMaster//Event Calendar 2.0//EN
METHOD:PUBLISH
X-PUBLISHED-TTL:P3D
REFRESH-INTERVAL:P3D
CALSCALE:GREGORIAN
BEGIN:VEVENT
DTSTART:20101001T210000Z
DTEND:20101002T020000Z
X-MICROSOFT-CDO-ALLDAYEVENT:FALSE
SUMMARY:Fall Fair & Ski/Snowboard Swap
DESCRIPTION:Ski & Snowboard Swap.  Special buy on Season Passes\n\n\n\nFree chairlift and hayrides\; free inflatables jumping/activities\, free fall crafts\, pumpkin painting and free dig for prizes in the haystack.
X-ALT-DESC;FMTTYPE=text/html:Ski &amp\; Snowboard Swap.&nbsp\; Special buy on Season Passes<br />\n<br />\nFree chairlift and hayrides\; free inflatables jumping/activities\, free fall crafts\, pumpkin painting and free dig for prizes in the haystack.
LOCATION:Afton Alps 6600 Peller Ave S Hastings MN
UID:e.606.111970
SEQUENCE:3
DTSTAMP:20260425T111441Z
URL:https://www.hastingsmn.org/events/details/fall-fair-ski-snowboard-swap-10-01-2010-111970
END:VEVENT

END:VCALENDAR
