BEGIN:VCALENDAR
VERSION:2.0
PRODID:-//ChamberMaster//Event Calendar 2.0//EN
METHOD:PUBLISH
X-PUBLISHED-TTL:P3D
REFRESH-INTERVAL:P3D
CALSCALE:GREGORIAN
BEGIN:VEVENT
DTSTART:20111001T140000Z
DTEND:20111001T200000Z
X-MICROSOFT-CDO-ALLDAYEVENT:FALSE
SUMMARY:Fall Arts\, Crafts & Gifts Show
DESCRIPTION:Handcrafted Arts\, crafts and gifts show.
X-ALT-DESC;FMTTYPE=text/html:<div>\n	<font face="Verdana" size="1">Handcrafted Arts\, crafts and gifts show.</font></div>\n
LOCATION:Hastings Armory\, Hwy. 316.
UID:e.606.113316
SEQUENCE:3
DTSTAMP:20260420T192406Z
URL:https://www.hastingsmn.org/events/details/fall-arts-crafts-gifts-show-10-01-2011-113316
END:VEVENT

END:VCALENDAR
