BEGIN:VCALENDAR
VERSION:2.0
PRODID:-//ChamberMaster//Event Calendar 2.0//EN
METHOD:PUBLISH
X-PUBLISHED-TTL:P3D
REFRESH-INTERVAL:P3D
CALSCALE:GREGORIAN
BEGIN:VEVENT
DTSTART:20120807T130000Z
DTEND:20120809T170000Z
X-MICROSOFT-CDO-ALLDAYEVENT:FALSE
SUMMARY:Exploring the new ART Frontiers at the LeDuc Historic Estate
DESCRIPTION:Summer Camp for Children 1-14 years.  Need not have attended "Life with the LeDucs.  Register through Hastings Community Ed. @ Hastings.Community.Ed..com or call LeDuc Historical Estate @ 651-437-7055.  Registration fee of $75 per child.  Taught by local artists & educators at the LeDuc Historic Estate.  \n\nCombine paint\,fresh air\,and creativity for students to make their own Masterpiece.  Children will learn about the important role artists played by documenting life on the prairie.\n\nPeriod costumes provided.
X-ALT-DESC;FMTTYPE=text/html:Summer Camp for Children 1-14 years. &nbsp\;Need not have attended &quot\;Life with the LeDucs. &nbsp\;Register through Hastings Community Ed. @ Hastings.Community.Ed..com or call LeDuc Historical Estate @ 651-437-7055. &nbsp\;Registration fee of $75 per child. &nbsp\;Taught by local artists &amp\; educators at the LeDuc Historic Estate. &nbsp\;<br />\nCombine paint\,fresh air\,and creativity for students to make their own Masterpiece. &nbsp\;Children will learn about the important role artists played by documenting life on the prairie.<br />\nPeriod costumes provided.
LOCATION:LeDuc Historic Estate 1629 Vermillion Street\, Hastings\, MN 55033
UID:e.606.113687
SEQUENCE:3
DTSTAMP:20260420T013733Z
URL:https://www.hastingsmn.org/events/details/exploring-the-new-art-frontiers-at-the-leduc-historic-estate-08-07-2012-113687
END:VEVENT

END:VCALENDAR
