BEGIN:VCALENDAR
VERSION:2.0
PRODID:-//ChamberMaster//Event Calendar 2.0//EN
METHOD:PUBLISH
X-PUBLISHED-TTL:P3D
REFRESH-INTERVAL:P3D
CALSCALE:GREGORIAN
BEGIN:VEVENT
DTSTART:20100724T000000Z
DTEND:20100725T220000Z
X-MICROSOFT-CDO-ALLDAYEVENT:FALSE
SUMMARY:Event at Little Log House Pioneer Village
DESCRIPTION:Restored Pioneer Village is open to tour including \nPieces of yesteryear \nMinnesota historyOne of a kind replica of the Hastings Spiral Bridge\nLarge indoor & outdoor flea market \nAmazing flower gardens \nEntertainment \nand much more!
X-ALT-DESC;FMTTYPE=text/html:<div>Restored Pioneer Village is open to tour including <br />Pieces of yesteryear <br />Minnesota history</div><div>One of a kind replica of the Hastings Spiral Bridge<br />Large indoor &amp\; outdoor flea market <br />Amazing flower gardens <br />Entertainment <br />and much more! <br />&nbsp\;</div>
LOCATION:21889 Michael Avenue Hastings\, MN 55033
UID:e.606.111594
SEQUENCE:3
DTSTAMP:20260425T141516Z
URL:https://www.hastingsmn.org/events/details/event-at-little-log-house-pioneer-village-07-23-2010-111594
END:VEVENT

END:VCALENDAR
