BEGIN:VCALENDAR
VERSION:2.0
PRODID:-//ChamberMaster//Event Calendar 2.0//EN
METHOD:PUBLISH
X-PUBLISHED-TTL:P3D
REFRESH-INTERVAL:P3D
CALSCALE:GREGORIAN
BEGIN:VEVENT
DTSTART:20110617T230000Z
DTEND:20110618T020000Z
X-MICROSOFT-CDO-ALLDAYEVENT:FALSE
SUMMARY:Event at Hidden Greens Golf Course
DESCRIPTION:Couples Date Night at Hidden Greens Golf Course\n\nFriday\, June 17\n\nTheme: 50's Night\n\nSponsor: Duff's Meats 2. \n\nGolfers are encouraged to dress in a 50's theme. $50 per couple\, includes 9 holes of golf\, dinner\, two drink tickets\, and prizes. A shotgun start is at 6:00 pm. Reservations are required. To sign up call the clubhouse at 651-437-3085 or reserve your tee time online: www.hiddengreensgolf.com
X-ALT-DESC;FMTTYPE=text/html:<span style="color: #008000"><strong>Couples Date Night at Hidden Greens Golf Course</strong><br />\nFriday\, June 17</span><br />\nTheme: 50&#39\;s Night<br />\nSponsor:&nbsp\;Duff&rsquo\;s Meats 2.&nbsp\;<br />\nGolfers are encouraged to dress in a 50&rsquo\;s theme. $50 per couple\, includes 9 holes of golf\, dinner\, two drink tickets\, and prizes. A shotgun start is at 6:00 pm. Reservations are required. To sign up call the clubhouse at 651-437-3085 or reserve your tee time online: www.hiddengreensgolf.com<br />\n<br />\n
LOCATION:12977 - 200th Street East\, Hastings\, MN 55033
UID:e.606.113268
SEQUENCE:3
DTSTAMP:20260421T023226Z
URL:https://www.hastingsmn.org/events/details/event-at-hidden-greens-golf-course-06-17-2011-113268
END:VEVENT

END:VCALENDAR
